BEGIN:VCALENDAR
VERSION:2.0
PRODID:-//wp-events-plugin.com//7.2.2.1//EN
TZID:Europe/Berlin
X-WR-TIMEZONE:Europe/Berlin
BEGIN:VEVENT
UID:4@insideproject.de
DTSTART;TZID=Europe/Berlin:20150327T200000
DTEND;TZID=Europe/Berlin:20150327T230000
DTSTAMP:20150213T184253Z
URL:https://insideproject.de/events/sting-illustrated-live-3/
SUMMARY:Sting Illustrated - Live (Vorpremiere)
DESCRIPTION:Tickets: musoc.de\, oder +49 89 48 27 42\,\noder info@theate
 r-drehleier.de
LOCATION:Theater Drehleier\, Rosenheimer Str. 123\, München\, Bayern\, 816
 67\, Oberbayern\, Deutschland
GEO:48.12617849999999;11.598350900000014
X-APPLE-STRUCTURED-LOCATION;VALUE=URI;X-ADDRESS=Rosenheimer Str. 123\, Mün
 chen\, Bayern\, 81667\, Oberbayern\, Deutschland;X-APPLE-RADIUS=100;X-TITL
 E=Theater Drehleier:geo:48.12617849999999,11.598350900000014
END:VEVENT
BEGIN:VTIMEZONE
TZID:Europe/Berlin
X-LIC-LOCATION:Europe/Berlin
BEGIN:STANDARD
DTSTART:20141026T020000
TZOFFSETFROM:+0200
TZOFFSETTO:+0100
TZNAME:CET
END:STANDARD
END:VTIMEZONE
END:VCALENDAR